BEGIN:VCALENDAR
VERSION:2.0
PRODID:-//Ski&amp;Snow Club Fossò s.s.d - ECPv6.15.8//NONSGML v1.0//EN
CALSCALE:GREGORIAN
METHOD:PUBLISH
X-WR-CALNAME:Ski&amp;Snow Club Fossò s.s.d
X-ORIGINAL-URL:https://skiclubfossoasd.it
X-WR-CALDESC:Eventi per Ski&amp;Snow Club Fossò s.s.d
REFRESH-INTERVAL;VALUE=DURATION:PT1H
X-Robots-Tag:noindex
X-PUBLISHED-TTL:PT1H
BEGIN:VTIMEZONE
TZID:Europe/Rome
BEGIN:DAYLIGHT
TZOFFSETFROM:+0100
TZOFFSETTO:+0200
TZNAME:CEST
DTSTART:20240331T010000
END:DAYLIGHT
BEGIN:STANDARD
TZOFFSETFROM:+0200
TZOFFSETTO:+0100
TZNAME:CET
DTSTART:20241027T010000
END:STANDARD
BEGIN:DAYLIGHT
TZOFFSETFROM:+0100
TZOFFSETTO:+0200
TZNAME:CEST
DTSTART:20250330T010000
END:DAYLIGHT
BEGIN:STANDARD
TZOFFSETFROM:+0200
TZOFFSETTO:+0100
TZNAME:CET
DTSTART:20251026T010000
END:STANDARD
BEGIN:DAYLIGHT
TZOFFSETFROM:+0100
TZOFFSETTO:+0200
TZNAME:CEST
DTSTART:20260329T010000
END:DAYLIGHT
BEGIN:STANDARD
TZOFFSETFROM:+0200
TZOFFSETTO:+0100
TZNAME:CET
DTSTART:20261025T010000
END:STANDARD
END:VTIMEZONE
BEGIN:VEVENT
DTSTART;TZID=Europe/Rome:20250111T080000
DTEND;TZID=Europe/Rome:20250201T170000
DTSTAMP:20260420T123509
CREATED:20241011T160535Z
LAST-MODIFIED:20241223T171615Z
UID:11759-1736582400-1738429200@skiclubfossoasd.it
SUMMARY:GENNAIO Corso di sci e snowboard adulti ad Alleghe SABATO
DESCRIPTION:SABATO 11 – 18 – 25 GENNAIO E 1 FEBBRAIO\nper i tesserati Ski Club Fossò \nOrganizziamo corsi base\, intermedi e avanzati con selezione iniziale il primo giorno in modo da suddividere i soci in gruppi omogenei. Questo corso è adatto per i ragazzi dai 13 anni e gli adulti. Non garantiamo corsi solo per ragazzi ma staranno in squadra con gli adulti vista l’età. \nI corsi sono adatti per chi vuole imparare a sciare in gruppo\, i tempi dei gruppi sono diversi rispetto alle lezioni singole. \nNon è possibile inoltre che tutti nello stesso gruppo siate perfettamente dello stesso livello. Ci si iscrive per imparare la tecnica. Se non hai pazienza\, spirito di squadra ecc i corsi di gruppo in generale non sono adatti a te. In questo caso ti consigliamo le lezioni individuali che puoi prenotare direttamente presso le scuole di sci locali. \nCome funziona il nostro corso? \nLa mattina partiamo con i nostri bus da varie parti del Veneto (Fossò\, Voltabarozzo\, Marghera\, Treviso). \nPotete partire da casa con la tuta da sci e le scarpe da ginnastica\, si carica tutta l’attrezzatura nei vani sotto il bus. \nDurante il viaggio il capopullman consegna lo skipass che ti servirà per usufruire degli impianti di risalita. \nSKIPASS ADULTO €47\,00 \nSKIPASS JUNIOR € 37\,00 NATI TRA IL 2016 E IL 2007 \nA/R CABINOVIA €12\,00 fino a Piani di Pezzè chi non scia \nUna volta arrivati ad Alleghe\, si scende e ci si cambia indossando gli scarponi da sci o da snow\, si prende l’attrezzatura in spalla\, lo zaino (con le cose che possono servire durante il giorno) e si prende la cabinovia fino ai Piani di Pezzè. Vicino alla Grande Baita Civetta troverai il nostro gazebo\, qui potrai lasciare lo zaino (senza cose di valore). \nAgli orari che ti indicheremo ci si troverà nei pressi del gazebo per la lezione (nel frattempo puoi andare a fare colazione o se sai già sciare consigliamo di fare 1/2 piste di riscaldamento). Suddivideremo l’area attorno al gazebo con diverse bandiere\, ogni bandiera rappresenterà un livello (principiante = mai sciato\, spazzaneve\, sci paralleli). Tutti gli snowboarder invece andranno a lato del gazebo con i maestri preposti. \nMentre i principianti inizieranno subito la lezione\, i livelli spazzaneve e sci paralleli e i livelli di snow avanzati durante la prima mezz’ora di corso avranno una selezione in cui verrà chiesto di effettuare una discesa davanti ai maestri. Verranno così formate le squadre da circa 8/9 persone per ogni gruppo. \nLe lezioni effettive durano due ore e mezza ogni giornata. Al termine della lezione siete liberi di sciare\, mangiare\, prendere il sole. \nLo skipass giornaliero è valido tutto il giorno. \nCi rivediamo poi al bus alle 16.45 per ripartire verso casa. Una volta arrivati al bus ci si rimette le scarpe\, si caricano gli scarponi e l’attrezzatura sotto il bus e si torna. (raccomandiamo di mettere un segno di riconoscimento nelle varie sacche che molto spesso sono uguali). Si arriva a casa dopo circa due ore e mezza di viaggio. \nLE PARTENZE DEL BUS \nPartenze in BUS garantite da Fossò Viale dello Sport ore 6.00 –  Padova Voltabarozzo parcheggio Arcaplanet  ore 6.00 – Marghera ore 6.20 presso check point Panorama. Non verranno attesi i ritardatari. I bus partono con chi c’è a bordo. \nPartenze BUS con un numero minimo di richieste da Piove di Sacco ore 5.40 – Treviso Nord ore 6.45 \nORARI DEI CORSI \nGli orari dei corsi di sci saranno resi noti al termine delle adesioni in base al numero di partecipanti. \nNon garantiamo anzi è impossibile che coppie o genitori e figli o amici abbiano lo stesso orario di corso se partecipano uno al corso di sci e l’altro al corso di snow o comunque al corso. Non chiedete di mettervi di default nella stessa squadra. Saranno i maestri a decidere se avrete lo stesso livello. \nNOLEGGIO SCI E SNOWBOARD per chi non ha la propria attrezzatura (perché non è inclusa nel prezzo!!) \nE’ possibile noleggiare presso i negozi convenzionati a prezzo agevolato (da 65 a 120€) per tutta la durata del corso o per tutta la stagione: \n\nFornasiero Sport a Corte di Piove di Sacco\nIssimo Sport a Padova\nin loco da Celle Sport al Alleghe\nin loco da Smart Rent presso Grande Baita Civetta\n\nSKIPASS GIORNALIERO \nOgni giornata di corso è obbligatorio acquistare lo skipass giornaliero. In bus verrà consegnato dal responsabile durante il tragitto al prezzo di 48€  (ogni giornata). \nQUOTA DI ADESIONE:\n\n€ 145\,00 PACCHETTO BUS E MAESTRO SABATO 11 – 18 – 25 GENNAIO E 1 FEBBRAIO (comprensivi di 4 viaggi in bus e due ore e mezza di maestro ogni giornata di corso) da saldare al momento dell’iscrizione.\n€70\,00 4 VIAGGI IN BUS E POSSIIBLITA’ SKIPASS SCONTATO\n\nINFORMAZIONI AGGIUNTIVE DA LEGGERE CON CURA PER NON CREARE INCOMPRENSIONI:\nQUEST’ANNO I CORSI DI SCI SARANNO A NUMERO CHIUSO. PER QUESTO MOTIVO ATTUALMENTE POSSIAMO ACCETTARE SOLO ISCRIZIONI PER CHI SCEGLIE DI USUFRUIRE DEI NOSTRI BUS PER MOTIVI DI COSTI E RIEMPIMENTO. SE E SOLO SE TROVEREMO ULTERIORI MAESTRI APRIREMO LE ISCRIZIONI ANCHE PER CHI VORRA’ RECARSI IN AUTO AD ALLEGHE. \nPER CHI PARTECIPA AL CORSO DI SCI E’ OBBLIGATORIO IL CERTIFICATO MEDICO NON AGONISTICO \n\nuna volta scelto se il sabato o la domenica\, non è possibile cambiare giorno del corso\npurtroppo a corso iniziato non è possibile avere il rimborso per le lezioni saltate anche se per assenza giustificata (covid\, malattia\, infortunio)\nnon è possibile avere il rimborso per una giornata nemmeno avvisando in fase di adesione.\n!!!! se è da tanto tempo che non sci ma hai già sciato in passato NON ISCRIVERTI AL LIVELLO PRINCIPIANTE/MAI SCIATO perchè vedrai che ti ricorderai subito come si fa… se ti iscrivi al corso principiante e poi dobbiamo cambiarti di livello è un grande problema quindi per favore ascoltaci… casomai vai a farti una sciata prima del corso e vedrai che ti ricordi.\ni gruppi verranno creati durante la prima ora di lezione\nnel caso in cui un principiante che non ha mai sciato saltasse la prima lezione per qualsiasi motivo (e lo sconsigliamo fortemente) se vorrà essere ammesso al corso dovrà provvedere a un’ora di lezione individuale prima dell’inizio del corso della seconda giornata questo perchè non possiamo bloccare una squadra che ha già fatto due ore e mezza di lezione e far ripetere da zero la lezione ai partecipanti che sono stati presenti. Un’ora di lezione individuale costa 60€. Il socio deve provvedere a prenotare l’ora di lezione direttamente presso le scuole di sci di Alleghe. Se non recupera non sarà ammesso al corso e perderà la quota\, non possiamo permettere che il gruppo perda la seconda lezione perché il maestro deve insegnare a chi è rimasto assente.\nqualora avvenisse un infortunio durante la giornata il bus non potrà aspettare il socio per cui l’infortunato dovrà tornare con mezzi propri e farsi venire a prendere da un familiare. Se e solo se il socio venisse portato all’ospedale di Agordo e alle 17.00 avesse già concluso la visita con la dimissione possiamo passare a prenderlo in piazza ad Agordo.\nRicordiamo che i corsi sono collettivi\, che i maestri hanno studiato per essere maestri di sci e tu sicuramente se sei in questa pagina no quindi per favore abbi rispetto per chi è un professionista\, non puoi imparare a sciare in 2 ore e nemmeno diventare Alberto Tomba in 10… serve costanza\, impegno\, predisposizione. Non abbatterti se alla prima lezione non riesci ma non scagliarti nemmeno contro il maestro perchè secondo te non ti ha insegnato niente\, la tecnica va imparata e affinata negli anni\, se lui è maestro c’è un motivo\, se tu sei iscritto a uno sci club anche. Le lezioni sono collettive per cui ci sarà chi apprenderà più o meno velocemente magari a ritmi diversi ma questo è normale. In una squadra di calcio c’è sempre chi lancia la palla a banana e chi fa subito gol\, dovremmo quindi eliminare chi ha più difficoltà? Se non è comprensibile la filosofia dello sci club prenditi un maestro in forma individuale.\nE’ OBBLIGATORIO IL CERTIFICATO MEDICO NON AGONISTICO\nL’ATTREZZATURA VA NOLEGGIATA IN LOCO O DOVE VOLETE ED E’ A PARTE\, NON E’ DI NOSTRA COMPETENZA\nPOTETE PORTARE IL PRANZO AL SACCO O PRANZARE NELLE VARIE BAITE AL TERMINE DEI CORSI\nI CORSI E LE USCITE IN GENERALE SONO RISERVATE AI SOCI CHE HANNO VERSATO LA QUOTA ASSOCIATIVA ANNUALE\nIL PACCHETTO E’ INDIVISIBILE\, SE VUOI UNA LEZIONE SINGOLA O SCIARE SOLO 1/2/3 GIORNATE PUOI ORGANIZZARLA AUTONOMAMENTE\, NOI NON LA PREVEDIAMO.\n\n  \nSE NON TI INTERESSA IL CORSO DI SCI O SNOWBOARD MA VUOI PARTECIPARE ALLE 4 USCITE USUFRUENDO SOLO DEL BUS E DELLO SKIPASS SCONTATO LA QUOTA SOLO BUS E’ DI €70\,00 comprensivi di 4 viaggi in bus DA SALDARE AL MOMENTO DELL’ISCRIZIONE. \nSE TI SEI ISCRITTO A QUESTO CORSO DI SCI ISCRIVITI A QUESTO GRUPPO WA PER SAPERE IL TUO NUMERO DI BUS E TUTTE LE INFORMAZIONI. LA SETTIMANA PRECEDENTE I CORSI VI AGGIORNEREMO QUI: https://chat.whatsapp.com/HdToqTznxvgBYIcJcFOWNh
URL:https://skiclubfossoasd.it/event/gennaio-corso-di-sci-e-snowboard-adulti-ad-alleghe-sabato/
CATEGORIES:Corsi
END:VEVENT
END:VCALENDAR