BEGIN:VCALENDAR
VERSION:2.0
PRODID:-//Ski&amp;Snow Club Fossò s.s.d - ECPv6.15.8//NONSGML v1.0//EN
CALSCALE:GREGORIAN
METHOD:PUBLISH
X-ORIGINAL-URL:https://skiclubfossoasd.it
X-WR-CALDESC:Eventi per Ski&amp;Snow Club Fossò s.s.d
REFRESH-INTERVAL;VALUE=DURATION:PT1H
X-Robots-Tag:noindex
X-PUBLISHED-TTL:PT1H
BEGIN:VTIMEZONE
TZID:Europe/Rome
BEGIN:DAYLIGHT
TZOFFSETFROM:+0100
TZOFFSETTO:+0200
TZNAME:CEST
DTSTART:20210328T010000
END:DAYLIGHT
BEGIN:STANDARD
TZOFFSETFROM:+0200
TZOFFSETTO:+0100
TZNAME:CET
DTSTART:20211031T010000
END:STANDARD
BEGIN:DAYLIGHT
TZOFFSETFROM:+0100
TZOFFSETTO:+0200
TZNAME:CEST
DTSTART:20220327T010000
END:DAYLIGHT
BEGIN:STANDARD
TZOFFSETFROM:+0200
TZOFFSETTO:+0100
TZNAME:CET
DTSTART:20221030T010000
END:STANDARD
BEGIN:DAYLIGHT
TZOFFSETFROM:+0100
TZOFFSETTO:+0200
TZNAME:CEST
DTSTART:20230326T010000
END:DAYLIGHT
BEGIN:STANDARD
TZOFFSETFROM:+0200
TZOFFSETTO:+0100
TZNAME:CET
DTSTART:20231029T010000
END:STANDARD
BEGIN:DAYLIGHT
TZOFFSETFROM:+0100
TZOFFSETTO:+0200
TZNAME:CEST
DTSTART:20240331T010000
END:DAYLIGHT
BEGIN:STANDARD
TZOFFSETFROM:+0200
TZOFFSETTO:+0100
TZNAME:CET
DTSTART:20241027T010000
END:STANDARD
BEGIN:DAYLIGHT
TZOFFSETFROM:+0100
TZOFFSETTO:+0200
TZNAME:CEST
DTSTART:20250330T010000
END:DAYLIGHT
BEGIN:STANDARD
TZOFFSETFROM:+0200
TZOFFSETTO:+0100
TZNAME:CET
DTSTART:20251026T010000
END:STANDARD
END:VTIMEZONE
BEGIN:VEVENT
DTSTART;VALUE=DATE:20240224
DTEND;VALUE=DATE:20240304
DTSTAMP:20260419T193656
CREATED:20220202T080927Z
LAST-MODIFIED:20240216T172005Z
UID:4277-1708732800-1709510399@skiclubfossoasd.it
SUMMARY:FEBBRAIO/MARZO Corso di sci e snowboard adulti a FALCADE SABATO O DOMENICA
DESCRIPTION:Organizziamo corsi base\, intermedi e avanzati con selezione iniziale il primo giorno in modo da suddividere i soci in gruppi omogenei. Questo corso è adatto per i ragazzi dai 13 anni e gli adulti. \nCome funziona il nostro corso? \nLa mattina partiamo con i nostri bus da varie parti del Veneto (Fossò\, Padova\, Marghera\, Treviso e con un numero minimo di adesioni Dolo\, Spinea). \nPotete partire da casa con la tuta da sci e le scarpe da ginnastica\, si carica tutta l’attrezzatura nei vani sotto il bus. \nDurante il viaggio il capopullman consegna lo skipass che ti servirà per usufruire degli impianti di risalita. \nUna volta arrivati a FALCADE\, si scende e ci si cambia indossando gli scarponi da sci o da snow\, si prende l’attrezzatura in spalla\, lo zaino (con le cose che possono servire durante il giorno) e si prende la cabinovia fino a località Le Buse\, vicino allo Chalet le Buse troverai il nostro gazebo\, qui potrai lasciare lo zaino (senza cose di valore). \nAgli orari che ti indicheremo ci si troverà nei pressi del gazebo per la lezione (nel frattempo puoi andare a fare colazione o se sai già sciare consigliamo di fare 1/2 piste di riscaldamento). Suddivideremo l’area attorno al gazebo con diverse bandiere\, ogni bandiera rappresenterà un livello (principiante = mai sciato\, spazzaneve\, sci paralleli). Tutti gli snowboarder invece andranno a lato del gazebo con i maestri preposti. \nMentre i principianti inizieranno subito la lezione\, i livelli spazzaneve e sci paralleli e i livelli di snow avanzati durante la prima mezz’ora di corso avranno una selezione in cui verrà chiesto di effettuare una discesa davanti ai maestri. Verranno così formate le squadre. \nLe lezioni effettive durano tre ore ogni giornata. Al termine della lezione siete liberi di sciare\, mangiare\, surfare. \nCi rivediamo poi al bus alle 16.45 per ripartire verso casa. Una volta arrivati al bus ci si rimette le scarpe\, si caricano gli scarponi e l’attrezzatura sotto il bus e si torna. (raccomandiamo di mettere un segno di riconoscimento nelle varie sacche che molto spesso sono uguali). Si arriva a casa dopo circa due ore e mezza di viaggio. \nLE DATE \n\nSabato 24 febbraio e 2 marzo 2024\nDomenica 25 febbraio e 3 marzo 2024\n\nAl momento dell’adesione si sceglie il corso del sabato o della domenica. \nLE PARTENZE DEL BUS \nPartenze in BUS garantite da Fossò ore 6.00 – Padova ore 6.00 – Marghera ore 6.25 \nPartenze BUS con un numero minimo di richieste da Piove di Sacco ore 5.40 – Treviso Nord ore 6.45 – Dolo ore 6.00 – Spinea ore 6.30 \nORARI DEI CORSI \nGli orari dei corsi di sci saranno resi noti al termine delle adesioni in base al numero di partecipanti. \nNon garantiamo anzi è impossibile che coppie o genitori e figli o amici abbiano lo stesso orario di corso se partecipano uno al corso di sci e l’altro al corso di snow o comunque al corso. Non chiedete di mettervi di default nella stessa squadra. Saranno i maestri a decidere se avrete lo stesso livello. \nNOLEGGIO SCI E SNOWBOARD per chi non ha la propria attrezzatura (perché non è inclusa nel prezzo!!) \nE’ possibile noleggiare presso i negozi convenzionati a prezzo agevolato (da 65 a 120€) per tutta la durata del corso o per tutta la stagione: \n\nFornasiero Sport a Corte di Piove di Sacco\nIssimo Sport a Padova\n\nSKIPASS GIORNALIERO \nOgni giornata di corso è obbligatorio acquistare lo skipass giornaliero. In bus verrà consegnato dal responsabile durante il tragitto al prezzo di 45€  (ogni giornata). \nINFORMAZIONI AGGIUNTIVE:\nQUEST’ANNO I CORSI DI SCI SARANNO A NUMERO CHIUSO\, PROBABILMENTE MOLTO CHIUSO. PER QUESTO MOTIVO ATTUALMENTE POSSIAMO ACCETTARE SOLO ISCRIZIONI PER CHI SCEGLIE DI USUFRUIRE DEI NOSTRI BUS PER MOTIVI DI COSTI E RIEMPIMENTO. SE E SOLO SE TROVEREMO ULTERIORI MAESTRI APRIREMO LE ISCRIZIONI ANCHE PER CHI VORRA’ RECARSI IN AUTO AD ALLEGHE. \nPER CHI PARTECIPA AL CORSO DI SCI E’ OBBLIGATORIO IL CERTIFICATO MEDICO NON AGONISTICO \n\nuna volta scelto se il sabato o la domenica\, non è possibile cambiare giorno del corso\npurtroppo a corso iniziato non è possibile avere il rimborso per le lezioni saltate anche se per assenza giustificata (covid\, malattia\, infortunio)\nnon è possibile avere il rimborso per una giornata nemmeno avvisando in fase di adesione.\ni gruppi verranno creati durante la prima mezz’ora di lezione\nnel caso in cui un principiante che non ha mai sciato saltasse la prima lezione per qualsiasi motivo (e lo sconsigliamo fortemente) se vorrà essere ammesso al corso dovrà provvedere a un’ora di lezione individuale prima dell’inizio del corso della seconda giornata questo perchè non possiamo bloccare una squadra che ha già fatto due ore e mezza di lezione e far ripetere da zero la lezione ai partecipanti che sono stati presenti. Un’ora di lezione individuale costa 42€\nqualora avvenisse un infortunio durante la giornata il bus non potrà aspettare il socio per cui l’infortunato dovrà tornare con mezzi propri e farsi venire a prendere da un familiare. Se e solo se il socio venisse portato all’ospedale di Agordo e alle 17.00 avesse già concluso la visita con la dimissione possiamo passare a prenderlo in piazza ad Agordo.\n\nPREZZI sabato o domenica a scelta\n\nPACCHETTO BUS E MAESTRO €70 comprensivi di 2 viaggi in bus e tre di maestro ogni giornata di corso indicativamente dalle 10 alle 13 e dalle 13 alle 16\nSOLO BUS €35 comprensivi di 2 viaggi in bus
URL:https://skiclubfossoasd.it/event/febbraio-falcade-adulti/
LOCATION:Falcade\, 32020
CATEGORIES:Corsi
ATTACH;FMTTYPE=image/jpeg:https://skiclubfossoasd.it/wp-content/uploads/2020/10/foto-civetta-scaled.jpg
END:VEVENT
BEGIN:VEVENT
DTSTART;VALUE=DATE:20240224
DTEND;VALUE=DATE:20240304
DTSTAMP:20260419T193656
CREATED:20221014T154515Z
LAST-MODIFIED:20240131T160129Z
UID:4476-1708732800-1709510399@skiclubfossoasd.it
SUMMARY:FEBBRAIO/MARZO Corso di sci BAMBINI A FALCADE
DESCRIPTION:Organizziamo corsi base\, intermedi e avanzati con selezione iniziale il primo giorno in modo da suddividere i soci in gruppi omogenei. \nI bambini devono essere sempre accompagnati da un adulto in bus. Non accettiamo iscrizioni di  bambini da soli. \nObbligatorio certificato medico non agonistico per chi partecipa ai corsi con maestro. \nCOME FUNZIONANO I CORSI? \nLa mattina partiamo con i nostri bus da varie parti del Veneto indicate sotto. Potete partire da casa con la tuta da sci e le scarpe da ginnastica\, si carica tutta l’attrezzatura nei vani sotto il bus. \nDurante il viaggio il capopullman consegna lo skipass che ti servirà per usufruire degli impianti di risalita. \nUna volta arrivati asi scende e ci si cambia indossando gli scarponi da sci o da snow\, si prende l’attrezzatura in spalla\, lo zaino (con le cose che possono servire durante il giorno) e si prende la cabinovia \nAgli orari che ti indicheremo ci si troverà nei pressi del gazebo per la lezione (nel frattempo puoi andare a fare colazione/pranzo se sai già sciare consigliamo di fare 1/2 piste di riscaldamento). \nPer i bambini è possibile scegliere tra due tipologie di corso\, \n\nil corso ordinario che dura 2\,5 ore ogni giornata e si svolge solitamente nel pomeriggio\nil corso intensivo che dura 5 ore con pausa pranzo compresa dalle 11 alle 16\n\nCi rivediamo poi al bus alle 16.45 per ripartire verso casa. Una volta arrivati al bus ci si rimette le scarpe\, si caricano gli scarponi e l’attrezzatura sotto il bus e si torna. (raccomandiamo di mettere un segno di riconoscimento nelle varie sacche che molto spesso sono uguali). Si arriva a casa dopo circa due ore e mezza di viaggio. \nLE DATE DEL CORSO A FALCADE 2 GIORNATE \n\nSabato 24 febbraio e 2 marzo 2024\nDomenica 25 febbraio e 3 marzo 2024\n\nAl momento dell’adesione si sceglie il corso del sabato o della domenica\, corso ordinario o corso intensivo \nQUALORA NON SI RAGGIUNGESSE IL NUMERO MINIMO DI 28 BAMBINI ISCRITTI PER IL CORSO INTENSIVO L’ISCRIZIONE VERRA’ AUTOMATICAMENTE PASSATA AL CORSO ORDINARIO E VERRA’ RIMBORSATA LA DIFFERENZA. \nIL CORSO INTENSIVO E’ RISERVATO AI BAMBINI CHE HANNO GIA’ PARTECIPATO AD ALMENO DUE ANNI DI CORSI (NO SPAZZANEVE) \nPartenze BUS \nPartenze in BUS garantite da: \n\nFossò ore 7.20 (in base al numero di adesioni potrebbe essere da Piazza Tina Anselmi a Sandon o Piazza Aldo Moro o dal parcheggio della zona Industriale)\nPadova ore 7.20 (Voltabarozzo ex biliardi Schiavon)\nMarghera ore 7.45 (check point panorama – casetta check in bus fronte Romea)\n\nPartenze BUS con un numero minimo di richieste \n\nPiove di Sacco ore 7.10\nDolo ore 7.30 (probabilmente dall’ingresso vecchio dell’ospedale)\nSpinea ore 7.55 (parcheggio uscita passante)\n\nNOLEGGIO SCI E SNOWBOARD \nE’ possibile noleggiare presso i negozi convenzionati a prezzo agevolato (da 50 a 100€) per tutta la durata del corso o per tutta la stagione: \n\nFornasiero Sport a Corte di Piove di Sacco\nIssimo Sport a Padova\n\nSKIPASS GIORNALIERO: \nOgni giornata di corso è obbligatorio acquistare lo skipass giornaliero. In bus verrà consegnato dal responsabile durante il trafiggo al costo di 35€ (ogni giornata) per i bambini nati dal 2008 al 2015. Bambini nati dopo dal 216 skipass gratuito. Adulto sciatore €45\, adulto sola andata e ritorno cabinovia fino a Piani di Pezzè €10. \n  \nINFORMAZIONI AGGIUNTIVE: \nQUEST’ANNO I CORSI DI SCI SARANNO A NUMERO CHIUSO\, PROBABILMENTE MOLTO CHIUSO. PER QUESTO MOTIVO ATTUALMENTE POSSIAMO ACCETTARE SOLO ISCRIZIONI PER CHI SCEGLIE DI USUFRUIRE DEI NOSTRI BUS PER MOTIVI DI COSTI E RIEMPIMENTO. SE E SOLO SE TROVEREMO ULTERIORI MAESTRI APRIREMO LE ISCRIZIONI ANCHE PER CHI VORRA’ RECARSI IN AUTO AD ALLEGHE. \nPER CHI PARTECIPA AL CORSO DI SCI E’ OBBLIGATORIO IL CERTIFICATO MEDICO NON AGONISTICO \n\nuna volta scelto se il sabato o la domenica\, non è possibile cambiare giorno del corso\npurtroppo a corso iniziato non è possibile avere il rimborso per le lezioni saltate anche se per assenza giustificata (covid\, malattia\, infortunio)\nnon è possibile avere il rimborso per una giornata nemmeno avvisando in fase di adesione.\ni gruppi verranno creati durante la prima mezz’ora di lezione\nnel caso in cui un principiante che non ha mai sciato saltasse la prima lezione per qualsiasi motivo (e lo sconsigliamo fortemente) se vorrà essere ammesso al corso dovrà provvedere a un’ora di lezione individuale prima dell’inizio del corso della seconda giornata questo perchè non possiamo bloccare una squadra che ha già fatto due ore e mezza di lezione e far ripetere da zero la lezione ai partecipanti che sono stati presenti. Un’ora di lezione individuale costa 42€\nqualora avvenisse un infortunio durante la giornata il bus non potrà aspettare il socio per cui l’infortunato dovrà tornare con mezzi propri e farsi venire a prendere da un familiare. Se e solo se il socio venisse portato all’ospedale di Agordo e alle 17.00 avesse già concluso la visita con la dimissione possiamo passare a prenderlo in piazza ad Agordo.\n\nPREZZI sabato o domenica a scelta \n\nPACCHETTO BUS/ MAESTRO E PRANZO BAMBINI  CORSO INTENSIVO FALCADE GIORNATE €125\nSOLO BUS GENITORI ACCOMPAGNATORI €65 ALLEGHE O FALCADE 35€\n\n  \n 
URL:https://skiclubfossoasd.it/event/febbraio-marzo-corso-di-sci-bambini-falcade-sabato-o-domenica/
LOCATION:Falcade\, 32020
CATEGORIES:Corsi
ATTACH;FMTTYPE=image/jpeg:https://skiclubfossoasd.it/wp-content/uploads/2020/10/IMG_5336-scaled.jpeg
END:VEVENT
BEGIN:VEVENT
DTSTART;VALUE=DATE:20220212
DTEND;VALUE=DATE:20220221
DTSTAMP:20260419T193656
CREATED:20201009T114903Z
LAST-MODIFIED:20220128T195032Z
UID:370-1644624000-1645401599@skiclubfossoasd.it
SUMMARY:Corso di sci e snowboard a Falcade
DESCRIPTION:Organizziamo corsi base\, intermedi e avanzati con selezione iniziale il primo giorno in modo da suddividere i soci in gruppi omogenei. Questo corso è adatto per i ragazzi dai 13 anni e gli adulti. \nCome funziona il nostro corso? \nLa mattina partiamo con i nostri bus da varie parti del Veneto (Fossò\, Padova\, Marghera\, Treviso e con un numero minimo di adesioni Dolo\, Spinea\, Corte\, Cavarzere). \nPotete partire da casa con la tuta da sci e le scarpe da ginnastica\, si carica tutta l’attrezzatura nei vani sotto il bus. \nDurante il viaggio il capopullman consegna lo skipass che ti servirà per usufruire degli impianti di risalita. \nUna volta arrivati a falcade\, si scende e ci si cambia indossando gli scarponi da sci o da snow\, si prende l’attrezzatura in spalla\, lo zaino (con le cose che possono servire durante il giorno) e si prende la cabinovia fino alle Buseè. Vicino al Ristoro alle Buse troverai il nostro gazebo\, qui potrai lasciare lo zaino (senza cose di valore). \nAgli orari che ti indicheremo ci si troverà nei pressi del gazebo per la lezione (nel frattempo puoi andare a fare colazione o se sai già sciare consigliamo di fare 1/2 piste di riscaldamento). Suddivideremo l’area attorno al gazebo con diverse bandiere\, ogni bandiera rappresenterà un livello (principiante = mai sciato\, spazzaneve\, sci paralleli). Tutti gli snowboarder invece andranno a lato del gazebo con i maestri preposti. \nMentre i principianti inizieranno subito la lezione\, i livelli spazzaneve e sci paralleli e i livelli di snow avanzati durante la prima mezz’ora di corso avranno una selezione in cui verrà chiesto di effettuare una discesa davanti ai maestri. Verranno così formate le squadre. \nLe lezioni effettive durano tre ore ogni giornata. Al termine della lezione siete liberi di sciare\, mangiare\, surfare. \nCi rivediamo poi al bus alle 16.45 per ripartire verso casa. Una volta arrivati al bus ci si rimette le scarpe\, si caricano gli scarponi e l’attrezzatura sotto il bus e si torna. (raccomandiamo di mettere un segno di riconoscimento nelle varie sacche che molto spesso sono uguali). Si arriva a casa dopo circa due ore e mezza di viaggio. \nLE DATE \n\nSabato 12-19 Febbraio 2022\nDomenica 13-20 Febbraio 2022\n\nAl momento dell’adesione si sceglie il corso del sabato o della domenica. \nLE PARTENZE DEL BUS \nPartenze in BUS garantite da Fossò ore 6.00 – Padova ore 6.00 – Marghera ore 6.25 \nPartenze BUS con un numero minimo di richieste da Piove di Sacco ore 5.40 – Treviso Nord ore 6.45 – Dolo ore 6.00 – Spinea ore 6.30 \nORARI DEI CORSI \nGli orari dei corsi di sci saranno resi noti al termine delle adesioni in base al numero di partecipanti. \nNon garantiamo anzi è impossibile che coppie o genitori e figli o amici abbiano lo stesso orario di corso se partecipano uno al corso di sci e l’altro al corso di snow o comunque al corso. Non chiedete di mettervi di default nella stessa squadra. Saranno i maestri a decidere se avrete lo stesso livello. \nNOLEGGIO SCI E SNOWBOARD per chi non ha la propria attrezzatura (perché non è inclusa nel prezzo!!) \nE’ possibile noleggiare presso i negozi convenzionati a prezzo agevolato (da 65 a 120€) per tutta la durata del corso o per tutta la stagione: \n\nFornasiero Sport a Corte di Piove di Sacco\nIssimo Sport a Padova\n\nSKIPASS GIORNALIERO \nOgni giornata di corso è obbligatorio acquistare lo skipass giornaliero. In bus verrà consegnato dal responsabile durante il tragitto al prezzo di 38€  (ogni giornata). \nPER CHI CI RAGGIUNGE IN AUTO \nLo skipass viene ritirato in cassa dal socio ogni giornata\, tutti gli iscritti ai corsi saranno inseriti in una “lista speciale” per poter avere lo skipass agevolato a 38€ al giorno. \nIl ritrovo è poi alle Buse (all’arrivo della cabinovia che sale da Falcade) sotto al gazebo agli orari indicati. \nPREZZI sabato o domenica a scelta \n\nPACCHETTO BUS E MAESTRO €70  comprensivi di 2 viaggi in bus e tre ore di maestro ogni giornata di corso\nSOLO MAESTRO €40 comprensivi solo delle ore di maestro\nSOLO BUS €33 comprensivi di 2 viaggi in bus\n\nINFORMAZIONI AGGIUNTIVE: \n\nuna volta scelto se il sabato o la domenica\, non è possibile cambiare giorno del corso\npurtroppo a corso iniziato non è possibile avere il rimborso per le lezioni saltate anche se per assenza giustificata (covid\, malattia\, infortunio)\nnon è possibile avere il rimborso per una giornata nemmeno avvisando in fase di adesione.\ni gruppi verranno creati durante la prima mezz’ora di lezione\nnel caso in cui un principiante che non ha mai sciato saltasse la prima lezione per qualsiasi motivo (e lo sconsigliamo fortemente) se vorrà essere ammesso al corso dovrà provvedere a un’ora di lezione individuale prima dell’inizio del corso della seconda giornata questo perchè non possiamo bloccare una squadra che ha già fatto due ore e mezza di lezione e far ripetere da zero la lezione ai partecipanti che sono stati presenti. Un’ora di lezione individuale costa 42€\nqualora avvenisse un infortunio durante la giornata il bus non potrà aspettare il socio per cui l’infortunato dovrà tornare con mezzi propri e farsi venire a prendere da un familiare. Se e solo se il socio venisse portato all’ospedale di Agordo e alle 17.00 avesse già concluso la visita con la dimissione possiamo passare a prenderlo in piazza ad Agordo.\n\nNORME ANTI COVID IN BUS:\n\nI bus viaggeranno all’80% della capienza\nE’ obbligatorio il Super GreenPass \nIn bus è obbligatorio utilizzare sempre la mascherina. Bambini con meno di 6 anni esonerati dall’obbligo\nI posti saranno assegnati in precedenza in base all’ordine di adesione dai posti davanti verso il fondo\nNon è possibile alzarsi durante il viaggio\nNon è possibile consumare cibo e bevande durante il viaggio\nChiediamo di salire e scendere ordinatamente rispettando le distanze di sicurezza.\nL’autista e il responsabile bus qualora notasse qualche anomalia e il non rispetto delle regole potrà fermare il bus e far scendere il socio che non rispetta il regolamento.
URL:https://skiclubfossoasd.it/event/corso-di-sci-e-snowboard-a-falcade/
LOCATION:Falcade\, 32020
CATEGORIES:Corsi
ATTACH;FMTTYPE=image/jpeg:https://skiclubfossoasd.it/wp-content/uploads/2020/10/IMG_4697.jpg
END:VEVENT
BEGIN:VEVENT
DTSTART;VALUE=DATE:20220212
DTEND;VALUE=DATE:20220220
DTSTAMP:20260419T193656
CREATED:20220103T160110Z
LAST-MODIFIED:20220209T131355Z
UID:3730-1644624000-1645315199@skiclubfossoasd.it
SUMMARY:CORSI FALCADE SABATO ADULTI\, BAMBINI E GENITORI
DESCRIPTION:Buongiorno carissimi corsisti ed escursionisti.\nEccoci con le informazioni per i corsi del sabato a FALCADE nelle date 12 e 19 febbraio 2022. \nPRE CHI SALE CON I BUS:\nA ognuno è stato assegnato un bus in base alla partenza richiesta durante l’iscrizione. \n\nBUS 1: RESPONSABILE BUS GIULIA\n\nPARTENZA DA PIOVE DI SACCO ORE 5.35 HOTEL FLORIDA \nPARTENZA DA FOSSO’ ORE 6.00 DAL PARCHEGGIO DEI CAMPI SPORTIVI PRESSO VIALE DELLO SPORT (CHIEDIAMO DI PARCHEGGIARE ORDINATAMENTE PARTENDO DAI PARCHEGGI A NORD DEL TENNIS CLUB LASCIANDO LIBERI I PARCHEGGI FRONTE TRIBUNE PER FARE MANOVRA CON I BUS. \n\nBUS 2: RESPONSABILE BUS FRANCESCO\n\nPARTENZA DA FOSSO’ ORE 6.00 DAL PARCHEGGIO DEI CAMPI SPORTIVI PRESSO VIALE DELLO SPORT (CHIEDIAMO DI PARCHEGGIARE ORDINATAMENTE PARTENDO DAI PARCHEGGI A NORD DEL TENNIS CLUB LASCIANDO LIBERI I PARCHEGGI FRONTE TRIBUNE PER FARE MANOVRA CON I BUS. \nPARTENZA DA MARGHERA ORE 6.25 CHECK POINT PANORAMA \n\nBUS 3: RESPONSABILE BUS EROS\n\nPARTENZA DA VOLTABAROZZO ORE 6.00 PRESSO PARCHEGGIO ARCA PLANET \n  \nBABY BUS 4 GENITORI E BAMBINI : RESPONSABILE BUS CINZIA \nPARTENZA DA VOLTABAROZZO ORE 7.00 PRESSO PARCHEGGIO ARCA PLANET \nPARTENZA DA FOSSO’ ORE 7.30 NEL PARCHEGGIO DIETRO AL COMUNE IN VIA DALMATI \nPARTENZA DA MARGHERA ORE 7.55 CHECK POINT PANORMA \n!!! Chiediamo ai genitori di non far mangiare i bambini in bus per evitare vomitini !!! \nSEGRETERIA SKI CLUB PER COMUNICAZIONI 3703131925 \nDURANTE IL VIAGGIO…\nPotete partire da casa con la tuta da sci e le scarpe da ginnastica\, si carica tutta l’attrezzatura nei vani sotto al bus. \nDurante il viaggio il capopullman raccoglie i soldi dello skipass che servirà per usufruire degli impianti di risalita. Chiediamo di portare i soldi giusti per evitare smistamenti di resti: 38€ lo skipass giornaliero adulto\, 29€ lo skipass junior per i nati dopo il 27.11.2005 e prima del 26.11.2013\, è gratuito per i bambini nati dal 27/11/2013. L’andata e ritorno della cabinovia fino a Le Buse per gli accompagnarori che non sciano è di 11€. \nGli skipass verranno poi consegnati a fianco il bar Ski Stop alla partenza degli impianti da ogni responsabile poiché non ci vengono forniti precedentemente. In bus vi verrà spiegato come avverrà la consegna. \n!!! I principianti che non hanno MAI SCIATO e mai messo lo snow per la prima giornata non prendono lo skipass giornaliero ma solo l’andata e ritorno della cabinovia Molino-Le buse. \nNel caso in cui la squadra fosse brava sarà possibile acquistare le corse singole dello ski-lift direttamente sulle piste. La prima lezione avverrà nel campo scuola dov’è presente un tapis roulant gratuito. \n  \nUna volta arrivati a Falcade\,  ci si cambia indossando gli scarponi da sci o da snow\, si prende l’attrezzatura in spalla\, lo zaino (con le cose che possono servire durante il giorno) e si prende la cabinovia fino a Le Buse. All’arrivo della cabinovia proprio a fianco lo Chalet Le buse si trova il nostro gazebo\, qui sarà possibile lasciare lo zaino (senza cose di valore). \n  \nPER CHI CI RAGGIUNGE CON MEZZI PROPRI:\nPer tutti gli iscritti ai corsi e accompagnatori (accompagnatori che hanno selezionato la propria presenza alle 2 giornate) gli skipass devono essere ritirati presso i responsabili dello sci club che troverete nella zona delle casse a fianco il Bar Ski Stop a Molino alla partenza della cabinovia. \nA tutti quelli che ci raggiungo con le auto preghiamo di arrivare presto in quanto: 1- sarà difficile trovare parcheggio dopo le ore 8.45 se non a pagamento o distante dagli impianti; 2- i referenti non possono aspettare eternamente l’arrivo dei soci per la consegna dello skipass che dovrà avvenire entro le 10.30. \nSe qualcuno pensa di arrivare più tardi (ma credo e spero di no) ci avvisi. \n!!! I principianti che non hanno MAI SCIATO e mai messo lo snow per la prima giornata non prendono lo skipass giornaliero ma solo l’andata e ritorno della cabinovia Molino-Le buse.(11€) \nNel caso in cui la squadra fosse brava sarà possibile acquistare le corse singole dello ski-lift direttamente sulle piste. La prima lezione avverrà nel campo scuola dov’è presente un tapis roulant gratuito. \n!!! Dal 10 gennaio obbligatorio Super Green Pass sopra ai 12 anni. Il tampone non basterà più. \nEventuali ritardi dovuti a code o mancanze di parcheggi non saranno un giustificativo. DOVETE ARRIVARE PRESTO! \nIl ritrovo è a Le Buse al nostro gazebo per i corsi. \nORARI DEI CORSI\nGli orari dei corsi degli adulti : \n\nCorsi di sci dalle 10 alle 13.00.\nCorsi di snowboard due turni dalle 10 alle 13 o dalle 13 alle 16. L’orario verrà definito il primo giorno in base alla selezione.\nConsigliamo a chi sa già sciare di fare 1/2 discese anche sulla pista baby per rinfrescare la tecnica prima della selezione.\n\nCorsi intensivi: \n\ni corsi intensivi si svolgono dalle 11 alle 16. Il ritrovo è alle ore 10.50 per distribuire le pettorine ai bambini. Preghiamo i genitori di lasciare i bambini e di allontanarsi dal gruppo. I bambini partiranno tutti assieme e andranno a fare una selezione\, verranno poi divisi in 3/4 squadre. Pranzeranno con i maestri in una delle baite / rifugi del comprensorio. Allergie o intollerante possono essere riferite ai maestri\, eventualmente consegnate un biglietto a vostro figlio con scritto cosa deve evitare di mangiare e avvisate il bambino di darlo al maestro che gli verrà assegnato.\n\nCorsi ordinari bambini e genitori: \n\ni corsi ordinari dei bambini e genitori sono dalle 13.00 alle 16.00. I principianti inizieranno la lezione divisi in base all’età. Tutti gli altri livelli\, dallo spazzaneve in su faranno una selezione e verranno divisi in base a come scendono. Il corso dei genitori ha ricevuto poche adesioni\, durante la prima giornata valuteremo se sarà possibile fare lezione poiché non conosciamo bene i vostri livelli. Se la squadra è omogenea potrà continuare la lezione altrimenti prevediamo di rimborsare la quota del maestro.\nN.B. I bambini che partecipano ai corsi delle 3 ore devono arrivare pronti alle 13.00 con pipì e pranzi fatti e attrezzatura pronta.\n\nAl termine e prima delle lezioni siete tutti liberi con il vostro skipass di sciare\, prendere il sole\, mangiare nelle baite. Le piste di Falcade sono collegate con San pellegrino\, raccomandiamo a chi volesse andare a sciare nel versante Trentino di iniziare le operazioni di rientro verso Falcade non più tardi delle 15.00 per non arrivare in ritardo ai bus. \nCi rivediamo poi al bus alle 16.40 per ripartire verso casa. Una volta arrivati al bus ci si rimette le scarpe\, si caricano gli scarponi e l’attrezzatura sotto il bus e si torna. (raccomandiamo di mettere un segno di riconoscimento nelle varie sacche che molto spesso sono uguali). Si arriva a casa dopo circa due ore e mezza di viaggio. \nChi arriva per primo al bus eviti di caricare la propria attrezzatura sopra le sacche vuote degli altri altrimenti  qualcuno dovrà tornare in calzetti. \nAttenzione a mettere l’attrezzatura dentro il bus giusto e non nei bus vicini. \nINFORMAZIONI AGGIUNTIVE: \n\npartecipi al corso? Ti ricordiamo che è obbligatorio il certificato medico non agonistico? Lo aspettiamo entro il 12 febbraio via mail.\nuna volta scelto se il sabato o la domenica\, non è possibile cambiare giorno del corso\n non è possibile avere il rimborso per le lezioni saltate anche se per assenza giustificata (covid\, malattia\, infortunio)\nnon è possibile avere il rimborso per una giornata nemmeno avvisando in fase di adesione.\nnel caso in cui un principiante che non ha mai sciato saltasse la prima lezione per qualsiasi motivo (e lo sconsigliamo fortemente) se vorrà essere ammesso al corso dovrà provvedere a un’ora di lezione individuale prima dell’inizio del corso della seconda giornata questo perchè non possiamo bloccare una squadra che ha già fatto due ore e mezza di lezione e far ripetere da zero la lezione ai partecipanti che sono stati presenti. Un’ora di lezione individuale costa 42€\nqualora avvenisse un infortunio durante la giornata il bus non potrà aspettare il socio per cui l’infortunato dovrà tornare con mezzi propri e farsi venire a prendere da un familiare. Se e solo se il socio venisse portato all’ospedale di Agordo e alle 17.00 avesse già concluso la visita con la dimissione possiamo passare a prenderlo in piazza ad Agordo.\na causa del covid non sarà facile gestire le lezioni\, già tante persone stanno chiamando per riferire che saranno assenti alla prima lezione. La prima lezione è di fondamentale importanza perchè viene dedicato tempo a dividere le squadre. Inserire queste persone alle lezioni successive sarà molto difficile perchè significherà dover dedicare ulteriore tempo nella seconda lezione. Bisognerà avere molta pazienza. Cerchiamo di vivere con serenità queste giornate\, senza ansie pensando solamente al fatto che siamo tra le montagne più belle del mondo a respirare aria buona e la tecnica piano piano si affina.\n\nNORME ANTI COVID IN BUS:\n\nI bus viaggeranno a capienza ridotta anche se è terminato l’obbligo.\nE’ obbligatorio il Super GreenPass dal 10 gennaio.\nIn bus è obbligatorio utilizzare sempre la mascherina FFP2.  Bambini con meno di 6 anni esonerati dall’obbligo\nNon è possibile alzarsi durante il viaggio\nNon è possibile consumare cibo e bevande durante il viaggio\nChiediamo di salire e scendere ordinatamente rispettando le distanze di sicurezza.\nL’autista e il responsabile bus qualora notasse qualche anomalia e il non rispetto delle regole potrà fermare il bus e far scendere il socio che non rispetta il regolamento.
URL:https://skiclubfossoasd.it/event/corsi-falcade-sabato-adulti-bambini-e-genitori/
LOCATION:Falcade\, 32020
CATEGORIES:Corsi
END:VEVENT
END:VCALENDAR